BEGIN:VCALENDAR
VERSION:2.0
PRODID:-//Steyning Museum Trust - ECPv6.11.2.1//NONSGML v1.0//EN
CALSCALE:GREGORIAN
METHOD:PUBLISH
X-ORIGINAL-URL:https://steyningmuseum.org.uk/wp
X-WR-CALDESC:Events for Steyning Museum Trust
REFRESH-INTERVAL;VALUE=DURATION:PT1H
X-Robots-Tag:noindex
X-PUBLISHED-TTL:PT1H
BEGIN:VTIMEZONE
TZID:Europe/London
BEGIN:DAYLIGHT
TZOFFSETFROM:+0000
TZOFFSETTO:+0100
TZNAME:BST
DTSTART:20250330T010000
END:DAYLIGHT
BEGIN:STANDARD
TZOFFSETFROM:+0100
TZOFFSETTO:+0000
TZNAME:GMT
DTSTART:20251026T010000
END:STANDARD
END:VTIMEZONE
BEGIN:VEVENT
DTSTART;TZID=Europe/London:20250524T000000
DTEND;TZID=Europe/London:20250601T235959
DTSTAMP:20260421T203056
CREATED:20250522T171930Z
LAST-MODIFIED:20250524T172921Z
UID:2789-1748044800-1748822399@steyningmuseum.org.uk
SUMMARY:Arts Trail
DESCRIPTION:The Museum is pleased\, once again\, to be the ‘hub’ for SteyningARTS ‘Art Trail’. \nWe are displaying a selection of works and you can collect the trail leaflet from us. \n 
URL:https://steyningmuseum.org.uk/wp/xevent/arts-trail/
LOCATION:Steyning Museum\, The Museum\, Church St\, Steyning\, West Sussex\, BN44 3YB\, United Kingdom
CATEGORIES:Members,Public
ATTACH;FMTTYPE=image/jpeg:https://steyningmuseum.org.uk/wp/wp-content/uploads/2025/05/SA-ArtTrail25V2-scaled-2.jpg
END:VEVENT
END:VCALENDAR